Package: tximport Version: 1.32.0 Command: /home/biocbuild/R/R-beta-2024-04-15_r86425/bin/R CMD build --keep-empty-dirs --no-resave-data tximport StartedAt: 2024-05-09 04:15:08 -0000 (Thu, 09 May 2024) EndedAt: 2024-05-09 04:16:21 -0000 (Thu, 09 May 2024) EllapsedTime: 73.1 seconds RetCode: 0 Status: OK PackageFile: tximport_1.32.0.tar.gz PackageFileSize: 376.2 KiB