Package: tximport Version: 1.32.0 Command: rm -rf tximport.buildbin-libdir && mkdir tximport.buildbin-libdir && /Users/biocbuild/BBS/utils/build-universal.sh tximport_1.32.0.tar.gz /Library/Frameworks/R.framework/Resources/bin/R tximport.buildbin-libdir StartedAt: 2024-06-11 13:38:49 -0400 (Tue, 11 Jun 2024) EndedAt: 2024-06-11 13:38:55 -0400 (Tue, 11 Jun 2024) EllapsedTime: 5.8 seconds RetCode: 0 Status: OK PackageFile: tximport_1.32.0.tgz PackageFileSize: 353.1 KiB