Package: tximport Version: 1.32.0 Command: rm -rf tximport.buildbin-libdir && mkdir tximport.buildbin-libdir && /Users/biocbuild/BBS/utils/build-universal.sh tximport_1.32.0.tar.gz /Library/Frameworks/R.framework/Resources/bin/R tximport.buildbin-libdir StartedAt: 2024-10-15 20:44:30 -0400 (Tue, 15 Oct 2024) EndedAt: 2024-10-15 20:44:35 -0400 (Tue, 15 Oct 2024) EllapsedTime: 4.5 seconds RetCode: 0 Status: OK PackageFile: tximport_1.32.0.tgz PackageFileSize: 353 KiB