Package: tximeta Version: 1.22.1 Command: E:\biocbuild\bbs-3.19-bioc\R\bin\R.exe CMD INSTALL tximeta StartedAt: 2024-10-16 16:51:04 -0400 (Wed, 16 Oct 2024) EndedAt: 2024-10-16 16:51:51 -0400 (Wed, 16 Oct 2024) EllapsedTime: 47.4 seconds RetCode: 0 Status: OK