Package: tximeta Version: 1.22.1 Command: chmod a+r tximeta -R && E:\biocbuild\bbs-3.19-bioc\R\bin\R.exe CMD build --keep-empty-dirs --no-resave-data tximeta StartedAt: 2024-10-16 22:27:22 -0400 (Wed, 16 Oct 2024) EndedAt: 2024-10-16 22:29:34 -0400 (Wed, 16 Oct 2024) EllapsedTime: 132.2 seconds RetCode: 0 Status: OK PackageFile: tximeta_1.22.1.tar.gz PackageFileSize: 1.331 MiB