Package: tximeta Version: 1.22.1 Command: /Library/Frameworks/R.framework/Resources/bin/R CMD check --install=check:tximeta.install-out.txt --library=/Library/Frameworks/R.framework/Resources/library --no-vignettes --timings tximeta_1.22.1.tar.gz StartedAt: 2024-10-18 16:04:08 -0400 (Fri, 18 Oct 2024) EndedAt: 2024-10-18 16:11:48 -0400 (Fri, 18 Oct 2024) EllapsedTime: 459.7 seconds RetCode: 0 Status: OK CheckDir: tximeta.Rcheck Warnings: 0