Package: txdbmaker Version: 1.0.1 Command: chmod a+r txdbmaker -R && E:\biocbuild\bbs-3.19-bioc\R\bin\R.exe CMD build --keep-empty-dirs --no-resave-data txdbmaker StartedAt: 2024-10-16 22:27:21 -0400 (Wed, 16 Oct 2024) EndedAt: 2024-10-16 22:29:28 -0400 (Wed, 16 Oct 2024) EllapsedTime: 126.7 seconds RetCode: 0 Status: OK PackageFile: txdbmaker_1.0.1.tar.gz PackageFileSize: 14.53 MiB