Package: txdbmaker Version: 1.0.1 Command: rm -rf txdbmaker.buildbin-libdir && mkdir txdbmaker.buildbin-libdir && E:\biocbuild\bbs-3.19-bioc\R\bin\R.exe CMD INSTALL --build --library=txdbmaker.buildbin-libdir txdbmaker_1.0.1.tar.gz StartedAt: 2024-10-17 08:49:29 -0400 (Thu, 17 Oct 2024) EndedAt: 2024-10-17 08:50:30 -0400 (Thu, 17 Oct 2024) EllapsedTime: 60.9 seconds RetCode: 0 Status: OK PackageFile: txdbmaker_1.0.1.zip PackageFileSize: 1.247 MiB