Package: txdbmaker Version: 1.0.1 Command: rm -rf txdbmaker.buildbin-libdir && mkdir txdbmaker.buildbin-libdir && F:\biocbuild\bbs-3.19-bioc\R\bin\R.exe CMD INSTALL --build --library=txdbmaker.buildbin-libdir txdbmaker_1.0.1.tar.gz StartedAt: 2024-06-27 09:04:56 -0400 (Thu, 27 Jun 2024) EndedAt: 2024-06-27 09:05:51 -0400 (Thu, 27 Jun 2024) EllapsedTime: 55.5 seconds RetCode: 0 Status: OK PackageFile: txdbmaker_1.0.1.zip PackageFileSize: 1.247 MiB