Package: txdbmaker Version: 1.0.1 Command: /home/biocbuild/bbs-3.19-bioc/R/bin/R CMD INSTALL txdbmaker StartedAt: 2024-10-16 16:14:39 -0400 (Wed, 16 Oct 2024) EndedAt: 2024-10-16 16:15:18 -0400 (Wed, 16 Oct 2024) EllapsedTime: 39.0 seconds RetCode: 0 Status: OK