Package: txdbmaker Version: 1.0.1 Command: /home/biocbuild/bbs-3.19-bioc/R/bin/R CMD check --install=check:txdbmaker.install-out.txt --library=/home/biocbuild/bbs-3.19-bioc/R/site-library --timings txdbmaker_1.0.1.tar.gz StartedAt: 2024-10-17 06:09:12 -0400 (Thu, 17 Oct 2024) EndedAt: 2024-10-17 06:23:40 -0400 (Thu, 17 Oct 2024) EllapsedTime: 867.9 seconds RetCode: 1 Status: ERROR CheckDir: txdbmaker.Rcheck Warnings: NA