Package: txdbmaker Version: 1.0.1 Command: /home/biocbuild/bbs-3.19-bioc/R/bin/R CMD build --keep-empty-dirs --no-resave-data txdbmaker StartedAt: 2024-10-16 21:16:12 -0400 (Wed, 16 Oct 2024) EndedAt: 2024-10-16 21:19:36 -0400 (Wed, 16 Oct 2024) EllapsedTime: 204.4 seconds RetCode: 0 Status: OK PackageFile: txdbmaker_1.0.1.tar.gz PackageFileSize: 1009 KiB