Package: txdbmaker Version: 1.0.1 Command: /Library/Frameworks/R.framework/Resources/bin/R CMD check --install=check:txdbmaker.install-out.txt --library=/Library/Frameworks/R.framework/Resources/library --no-vignettes --timings txdbmaker_1.0.1.tar.gz StartedAt: 2024-10-17 14:49:12 -0400 (Thu, 17 Oct 2024) EndedAt: 2024-10-17 15:07:45 -0400 (Thu, 17 Oct 2024) EllapsedTime: 1113.7 seconds RetCode: 1 Status: ERROR CheckDir: txdbmaker.Rcheck Warnings: NA