Package: txdbmaker Version: 1.0.1 Command: rm -rf txdbmaker.buildbin-libdir && mkdir txdbmaker.buildbin-libdir && /Users/biocbuild/BBS/utils/build-universal.sh txdbmaker_1.0.1.tar.gz /Library/Frameworks/R.framework/Resources/bin/R txdbmaker.buildbin-libdir StartedAt: 2024-10-17 17:24:32 -0400 (Thu, 17 Oct 2024) EndedAt: 2024-10-17 17:26:53 -0400 (Thu, 17 Oct 2024) EllapsedTime: 141.0 seconds RetCode: 0 Status: OK PackageFile: txdbmaker_1.0.1.tgz PackageFileSize: 1.25 MiB