Package: txdbmaker Version: 1.0.0 Command: /Library/Frameworks/R.framework/Resources/bin/R CMD check --install=check:txdbmaker.install-out.txt --library=/Library/Frameworks/R.framework/Resources/library --no-vignettes --timings txdbmaker_1.0.0.tar.gz StartedAt: 2024-06-09 23:42:30 -0400 (Sun, 09 Jun 2024) EndedAt: 2024-06-09 23:54:07 -0400 (Sun, 09 Jun 2024) EllapsedTime: 697.1 seconds RetCode: 1 Status: ERROR CheckDir: txdbmaker.Rcheck Warnings: NA