Package: txdbmaker Version: 1.0.1 Command: /Library/Frameworks/R.framework/Resources/bin/R CMD INSTALL txdbmaker StartedAt: 2024-10-16 17:00:47 -0400 (Wed, 16 Oct 2024) EndedAt: 2024-10-16 17:01:34 -0400 (Wed, 16 Oct 2024) EllapsedTime: 46.1 seconds RetCode: 0 Status: OK