Package: txdbmaker Version: 1.0.1 Command: /Library/Frameworks/R.framework/Resources/bin/R CMD build --keep-empty-dirs --no-resave-data txdbmaker StartedAt: 2024-10-17 11:08:32 -0400 (Thu, 17 Oct 2024) EndedAt: 2024-10-17 11:10:35 -0400 (Thu, 17 Oct 2024) EllapsedTime: 122.2 seconds RetCode: 0 Status: OK PackageFile: txdbmaker_1.0.1.tar.gz PackageFileSize: 1009 KiB