Package: txdbmaker Version: 1.0.1 Command: rm -rf txdbmaker.buildbin-libdir && mkdir txdbmaker.buildbin-libdir && /Users/biocbuild/BBS/utils/build-universal.sh txdbmaker_1.0.1.tar.gz /Library/Frameworks/R.framework/Resources/bin/R txdbmaker.buildbin-libdir StartedAt: 2024-10-15 20:44:24 -0400 (Tue, 15 Oct 2024) EndedAt: 2024-10-15 20:45:22 -0400 (Tue, 15 Oct 2024) EllapsedTime: 57.1 seconds RetCode: 0 Status: OK PackageFile: txdbmaker_1.0.1.tgz PackageFileSize: 1.25 MiB