Package: txcutr Version: 1.10.0 Command: E:\biocbuild\bbs-3.19-bioc\R\bin\R.exe CMD INSTALL txcutr StartedAt: 2024-10-16 16:41:37 -0400 (Wed, 16 Oct 2024) EndedAt: 2024-10-16 16:42:18 -0400 (Wed, 16 Oct 2024) EllapsedTime: 41.8 seconds RetCode: 0 Status: OK