Package: txcutr Version: 1.10.0 Command: chmod a+r txcutr -R && E:\biocbuild\bbs-3.19-bioc\R\bin\R.exe CMD build --keep-empty-dirs --no-resave-data txcutr StartedAt: 2024-10-16 22:26:58 -0400 (Wed, 16 Oct 2024) EndedAt: 2024-10-16 22:29:11 -0400 (Wed, 16 Oct 2024) EllapsedTime: 132.5 seconds RetCode: 0 Status: OK PackageFile: txcutr_1.10.0.tar.gz PackageFileSize: 315.1 KiB