Package: txcutr Version: 1.10.0 Command: rm -rf txcutr.buildbin-libdir && mkdir txcutr.buildbin-libdir && E:\biocbuild\bbs-3.19-bioc\R\bin\R.exe CMD INSTALL --build --library=txcutr.buildbin-libdir txcutr_1.10.0.tar.gz StartedAt: 2024-10-17 08:49:27 -0400 (Thu, 17 Oct 2024) EndedAt: 2024-10-17 08:50:09 -0400 (Thu, 17 Oct 2024) EllapsedTime: 42.3 seconds RetCode: 0 Status: OK PackageFile: txcutr_1.10.0.zip PackageFileSize: 349.3 KiB