Package: txcutr Version: 1.10.0 Maintainer: Mervin Fansler MaintainerEmail: fanslerm at mskcc.org git_url: https://git.bioconductor.org/packages/txcutr git_branch: RELEASE_3_19 git_last_commit: 0333b6d git_last_commit_date: 2024-04-30 11:38:51 -0400 (Tue, 30 Apr 2024)