Package: twoddpcr Version: 1.28.0 Command: rm -rf twoddpcr.buildbin-libdir && mkdir twoddpcr.buildbin-libdir && E:\biocbuild\bbs-3.19-bioc\R\bin\R.exe CMD INSTALL --build --library=twoddpcr.buildbin-libdir twoddpcr_1.28.0.tar.gz StartedAt: 2024-10-17 08:49:25 -0400 (Thu, 17 Oct 2024) EndedAt: 2024-10-17 08:50:17 -0400 (Thu, 17 Oct 2024) EllapsedTime: 52.6 seconds RetCode: 0 Status: OK PackageFile: twoddpcr_1.28.0.zip PackageFileSize: 2.939 MiB