Package: twoddpcr Version: 1.28.0 Command: chmod a+r twoddpcr -R && F:\biocbuild\bbs-3.19-bioc\R\bin\R.exe CMD build --keep-empty-dirs --no-resave-data twoddpcr StartedAt: 2024-06-26 22:29:15 -0400 (Wed, 26 Jun 2024) EndedAt: 2024-06-26 22:34:29 -0400 (Wed, 26 Jun 2024) EllapsedTime: 314.0 seconds RetCode: 0 Status: OK PackageFile: twoddpcr_1.28.0.tar.gz PackageFileSize: 2.114 MiB