Package: twoddpcr Version: 1.28.0 Command: rm -rf twoddpcr.buildbin-libdir && mkdir twoddpcr.buildbin-libdir && F:\biocbuild\bbs-3.19-bioc\R\bin\R.exe CMD INSTALL --build --library=twoddpcr.buildbin-libdir twoddpcr_1.28.0.tar.gz StartedAt: 2024-06-27 09:04:52 -0400 (Thu, 27 Jun 2024) EndedAt: 2024-06-27 09:05:13 -0400 (Thu, 27 Jun 2024) EllapsedTime: 20.9 seconds RetCode: 0 Status: OK PackageFile: twoddpcr_1.28.0.zip PackageFileSize: 2.94 MiB