Package: twoddpcr Version: 1.28.0 Command: /home/biocbuild/bbs-3.19-bioc/R/bin/R CMD INSTALL twoddpcr StartedAt: 2024-10-16 16:24:50 -0400 (Wed, 16 Oct 2024) EndedAt: 2024-10-16 16:25:01 -0400 (Wed, 16 Oct 2024) EllapsedTime: 10.9 seconds RetCode: 0 Status: OK