Package: twoddpcr Version: 1.28.0 Command: /Library/Frameworks/R.framework/Resources/bin/R CMD INSTALL twoddpcr StartedAt: 2024-10-16 16:10:29 -0400 (Wed, 16 Oct 2024) EndedAt: 2024-10-16 16:10:56 -0400 (Wed, 16 Oct 2024) EllapsedTime: 27.0 seconds RetCode: 0 Status: OK