Package: twoddpcr Version: 1.28.0 Command: /Library/Frameworks/R.framework/Resources/bin/R CMD build --keep-empty-dirs --no-resave-data twoddpcr StartedAt: 2024-06-09 18:29:29 -0400 (Sun, 09 Jun 2024) EndedAt: 2024-06-09 18:32:00 -0400 (Sun, 09 Jun 2024) EllapsedTime: 151.2 seconds RetCode: 0 Status: OK PackageFile: twoddpcr_1.28.0.tar.gz PackageFileSize: 3.968 MiB