Package: twoddpcr Version: 1.28.0 Command: rm -rf twoddpcr.buildbin-libdir && mkdir twoddpcr.buildbin-libdir && /Users/biocbuild/BBS/utils/build-universal.sh twoddpcr_1.28.0.tar.gz /Library/Frameworks/R.framework/Resources/bin/R twoddpcr.buildbin-libdir StartedAt: 2024-06-11 13:38:27 -0400 (Tue, 11 Jun 2024) EndedAt: 2024-06-11 13:38:49 -0400 (Tue, 11 Jun 2024) EllapsedTime: 22.5 seconds RetCode: 0 Status: OK PackageFile: twoddpcr_1.28.0.tgz PackageFileSize: 5.071 MiB