Package: twoddpcr Version: 1.28.0 Command: /Library/Frameworks/R.framework/Resources/bin/R CMD check --install=check:twoddpcr.install-out.txt --library=/Library/Frameworks/R.framework/Resources/library --no-vignettes --timings twoddpcr_1.28.0.tar.gz StartedAt: 2024-10-18 16:03:09 -0400 (Fri, 18 Oct 2024) EndedAt: 2024-10-18 16:05:46 -0400 (Fri, 18 Oct 2024) EllapsedTime: 156.7 seconds RetCode: 0 Status: OK CheckDir: twoddpcr.Rcheck Warnings: 0