Package: twoddpcr Version: 1.28.0 Command: /Library/Frameworks/R.framework/Resources/bin/R CMD build --keep-empty-dirs --no-resave-data twoddpcr StartedAt: 2024-10-17 11:07:18 -0400 (Thu, 17 Oct 2024) EndedAt: 2024-10-17 11:10:06 -0400 (Thu, 17 Oct 2024) EllapsedTime: 167.7 seconds RetCode: 0 Status: OK PackageFile: twoddpcr_1.28.0.tar.gz PackageFileSize: 4.243 MiB