Package: twoddpcr Version: 1.28.0 Command: rm -rf twoddpcr.buildbin-libdir && mkdir twoddpcr.buildbin-libdir && /Users/biocbuild/BBS/utils/build-universal.sh twoddpcr_1.28.0.tar.gz /Library/Frameworks/R.framework/Resources/bin/R twoddpcr.buildbin-libdir StartedAt: 2024-10-15 20:44:16 -0400 (Tue, 15 Oct 2024) EndedAt: 2024-10-15 20:44:35 -0400 (Tue, 15 Oct 2024) EllapsedTime: 18.2 seconds RetCode: 0 Status: OK PackageFile: twoddpcr_1.28.0.tgz PackageFileSize: 5.066 MiB