Package: twoddpcr Version: 1.28.0 Maintainer: Anthony Chiu MaintainerEmail: anthony at achiu.me git_url: https://git.bioconductor.org/packages/twoddpcr git_branch: RELEASE_3_19 git_last_commit: f90d309 git_last_commit_date: 2024-04-30 10:56:31 -0400 (Tue, 30 Apr 2024)