Package: twilight Version: 1.80.0 Command: /home/biocbuild/bbs-3.19-bioc/R/bin/R CMD INSTALL twilight StartedAt: 2024-10-16 15:51:04 -0400 (Wed, 16 Oct 2024) EndedAt: 2024-10-16 15:51:16 -0400 (Wed, 16 Oct 2024) EllapsedTime: 12.1 seconds RetCode: 0 Status: OK