Package: twilight Version: 1.80.0 Command: /Library/Frameworks/R.framework/Resources/bin/R CMD check --install=check:twilight.install-out.txt --library=/Library/Frameworks/R.framework/Resources/library --no-vignettes --timings twilight_1.80.0.tar.gz StartedAt: 2024-10-17 14:49:05 -0400 (Thu, 17 Oct 2024) EndedAt: 2024-10-17 14:50:22 -0400 (Thu, 17 Oct 2024) EllapsedTime: 77.3 seconds RetCode: 0 Status: WARNINGS CheckDir: twilight.Rcheck Warnings: 1