Package: twilight Version: 1.80.0 Command: rm -rf twilight.buildbin-libdir && mkdir twilight.buildbin-libdir && /Users/biocbuild/BBS/utils/build-universal.sh twilight_1.80.0.tar.gz /Library/Frameworks/R.framework/Resources/bin/R twilight.buildbin-libdir StartedAt: 2024-10-17 17:24:28 -0400 (Thu, 17 Oct 2024) EndedAt: 2024-10-17 17:24:46 -0400 (Thu, 17 Oct 2024) EllapsedTime: 17.4 seconds RetCode: 0 Status: OK PackageFile: twilight_1.80.0.tgz PackageFileSize: 1.223 MiB