Package: twilight Version: 1.80.0 Command: /home/biocbuild/R/R-beta-2024-04-15_r86425/bin/R CMD build --keep-empty-dirs --no-resave-data twilight StartedAt: 2024-05-09 04:14:12 -0000 (Thu, 09 May 2024) EndedAt: 2024-05-09 04:15:42 -0000 (Thu, 09 May 2024) EllapsedTime: 90.1 seconds RetCode: 0 Status: OK PackageFile: twilight_1.80.0.tar.gz PackageFileSize: 1.181 MiB