Package: twilight Version: 1.80.0 Command: /Library/Frameworks/R.framework/Resources/bin/R CMD build --keep-empty-dirs --no-resave-data twilight StartedAt: 2024-10-17 11:06:54 -0400 (Thu, 17 Oct 2024) EndedAt: 2024-10-17 11:08:32 -0400 (Thu, 17 Oct 2024) EllapsedTime: 98.5 seconds RetCode: 0 Status: OK PackageFile: twilight_1.80.0.tar.gz PackageFileSize: 1.195 MiB