Package: tweeDEseq Version: 1.50.0 Command: /Library/Frameworks/R.framework/Resources/bin/R CMD build --keep-empty-dirs --no-resave-data tweeDEseq StartedAt: 2024-06-09 18:29:26 -0400 (Sun, 09 Jun 2024) EndedAt: 2024-06-09 18:37:26 -0400 (Sun, 09 Jun 2024) EllapsedTime: 480.5 seconds RetCode: 0 Status: OK PackageFile: tweeDEseq_1.50.0.tar.gz PackageFileSize: 234.3 KiB