Package: tweeDEseq Version: 1.50.0 Command: /home/biocbuild/R/R-beta-2024-04-15_r86425/bin/R CMD check --install=check:tweeDEseq.install-out.txt --library=/home/biocbuild/R/R-beta-2024-04-15_r86425/site-library --no-vignettes --timings tweeDEseq_1.50.0.tar.gz StartedAt: 2024-05-08 12:57:13 -0000 (Wed, 08 May 2024) EndedAt: 2024-05-08 12:57:58 -0000 (Wed, 08 May 2024) EllapsedTime: 45.1 seconds RetCode: 0 Status: WARNINGS CheckDir: tweeDEseq.Rcheck Warnings: 1