Package: tweeDEseq Version: 1.50.0 Command: /Library/Frameworks/R.framework/Resources/bin/R CMD check --install=check:tweeDEseq.install-out.txt --library=/Library/Frameworks/R.framework/Resources/library --no-vignettes --timings tweeDEseq_1.50.0.tar.gz StartedAt: 2024-10-18 16:01:47 -0400 (Fri, 18 Oct 2024) EndedAt: 2024-10-18 16:02:41 -0400 (Fri, 18 Oct 2024) EllapsedTime: 54.6 seconds RetCode: 0 Status: WARNINGS CheckDir: tweeDEseq.Rcheck Warnings: 1