Package: tripr Version: 1.10.0 Command: rm -rf tripr.buildbin-libdir && mkdir tripr.buildbin-libdir && /Users/biocbuild/BBS/utils/build-universal.sh tripr_1.10.0.tar.gz /Library/Frameworks/R.framework/Resources/bin/R tripr.buildbin-libdir StartedAt: 2024-10-15 20:43:06 -0400 (Tue, 15 Oct 2024) EndedAt: 2024-10-15 20:44:02 -0400 (Tue, 15 Oct 2024) EllapsedTime: 55.2 seconds RetCode: 0 Status: OK PackageFile: tripr_1.10.0.tgz PackageFileSize: 4.054 MiB