Package: tripr Version: 1.10.0 Maintainer: Nikolaos Pechlivanis MaintainerEmail: inab.bioinformatics at lists.certh.gr git_url: https://git.bioconductor.org/packages/tripr git_branch: RELEASE_3_19 git_last_commit: 7bea195 git_last_commit_date: 2024-04-30 11:37:08 -0400 (Tue, 30 Apr 2024)