Package: triplex Version: 1.44.0 Command: E:\biocbuild\bbs-3.19-bioc\R\bin\R.exe CMD check --no-multiarch --install=check:triplex.install-out.txt --library=E:\biocbuild\bbs-3.19-bioc\R\library --no-vignettes --timings triplex_1.44.0.tar.gz StartedAt: 2024-10-17 06:43:24 -0400 (Thu, 17 Oct 2024) EndedAt: 2024-10-17 06:44:59 -0400 (Thu, 17 Oct 2024) EllapsedTime: 94.7 seconds RetCode: 0 Status: WARNINGS CheckDir: triplex.Rcheck Warnings: 2