Package: triplex Version: 1.44.0 Command: chmod a+r triplex -R && E:\biocbuild\bbs-3.19-bioc\R\bin\R.exe CMD build --keep-empty-dirs --no-resave-data triplex StartedAt: 2024-10-16 22:25:34 -0400 (Wed, 16 Oct 2024) EndedAt: 2024-10-16 22:26:24 -0400 (Wed, 16 Oct 2024) EllapsedTime: 50.3 seconds RetCode: 0 Status: OK PackageFile: triplex_1.44.0.tar.gz PackageFileSize: 481.9 KiB