Package: triplex Version: 1.44.0 Command: /home/biocbuild/bbs-3.19-bioc/R/bin/R CMD INSTALL triplex StartedAt: 2024-10-16 15:55:16 -0400 (Wed, 16 Oct 2024) EndedAt: 2024-10-16 15:55:31 -0400 (Wed, 16 Oct 2024) EllapsedTime: 15.0 seconds RetCode: 0 Status: OK