Package: triplex Version: 1.44.0 Command: /home/biocbuild/bbs-3.19-bioc/R/bin/R CMD check --install=check:triplex.install-out.txt --library=/home/biocbuild/bbs-3.19-bioc/R/site-library --timings triplex_1.44.0.tar.gz StartedAt: 2024-10-17 06:06:49 -0400 (Thu, 17 Oct 2024) EndedAt: 2024-10-17 06:08:24 -0400 (Thu, 17 Oct 2024) EllapsedTime: 94.2 seconds RetCode: 0 Status: WARNINGS CheckDir: triplex.Rcheck Warnings: 2