Package: triplex Version: 1.44.0 Command: /home/biocbuild/bbs-3.19-bioc/R/bin/R CMD build --keep-empty-dirs --no-resave-data triplex StartedAt: 2024-10-16 21:14:50 -0400 (Wed, 16 Oct 2024) EndedAt: 2024-10-16 21:15:20 -0400 (Wed, 16 Oct 2024) EllapsedTime: 30.1 seconds RetCode: 0 Status: OK PackageFile: triplex_1.44.0.tar.gz PackageFileSize: 478.9 KiB