Package: triplex Version: 1.44.0 Command: /Library/Frameworks/R.framework/Resources/bin/R CMD build --keep-empty-dirs --no-resave-data triplex StartedAt: 2024-10-17 00:05:33 -0400 (Thu, 17 Oct 2024) EndedAt: 2024-10-17 00:06:55 -0400 (Thu, 17 Oct 2024) EllapsedTime: 81.6 seconds RetCode: 0 Status: OK PackageFile: triplex_1.44.0.tar.gz PackageFileSize: 600 KiB