Package: triplex Version: 1.44.0 Command: /Library/Frameworks/R.framework/Resources/bin/R CMD build --keep-empty-dirs --no-resave-data triplex StartedAt: 2024-06-09 18:28:41 -0400 (Sun, 09 Jun 2024) EndedAt: 2024-06-09 18:29:17 -0400 (Sun, 09 Jun 2024) EllapsedTime: 36.0 seconds RetCode: 0 Status: OK PackageFile: triplex_1.44.0.tar.gz PackageFileSize: 599.2 KiB